BEGIN:VCALENDAR
PRODID:-//eluceo/ical//2.0/EN
VERSION:2.0
CALSCALE:GREGORIAN
BEGIN:VEVENT
UID:61e3a9c73bb5377e734a77b478726100
DTSTAMP:20260422T225406Z
SUMMARY:Fauda Watch Party
DESCRIPTION:Jewish Federation of New Hampshire\nCommunity Calendar\nhttps:/
 /jewishnh.org/community-calendar/fauda-watch-party\n\nThe 4th season of th
 e hit Israeli series Fauda is coming to Netflix. \n\n \n\nJoin JFNH Shal
 iach\, Ra'anan de Haas to view the first two episodes and to discuss them 
 afterwards. \n\n \n\n\nDate- 01/21\n\nTime - 5:30PM\n\nLocation- Private
  house in Bedford\, Exact location will be given after registration\n\n\
 n 
DTSTART;TZID=America/New_York:20230121T173000
DTEND;TZID=America/New_York:20230121T200000
END:VEVENT
END:VCALENDAR
