BEGIN:VCALENDAR
PRODID:-//eluceo/ical//2.0/EN
VERSION:2.0
CALSCALE:GREGORIAN
BEGIN:VEVENT
UID:13842e1f302e1b82ba4c074f89c24ecc
DTSTAMP:20260422T061239Z
SUMMARY:Fiddler on the Roof JR.  performance
DESCRIPTION:Jewish Federation of New Hampshire\nCommunity Calendar\nhttps:/
 /jewishnh.org/community-calendar/fiddler-on-the-roof-jr--performance-15792
 90669\n\nMusic by Jerry Bock\n Book by Joseph Stein\n Lyrics by Sheldon Ha
 rnick\n Based on Sholem Aleichem’s stories\, by special permission of Ar
 nold Perl.\n\nThis special adaptation of the nine-time Tony Award-winning 
 Broadway musical\, Fiddler on the Roof JR. follows Tevye the milkman as he
  tries to protect his daughters and his way of life from a changing world.
   Created by Broadway legends Jerome Robbins\, Harold Prince\, Jerry Bock\
 , Sheldon Harnick and Joseph Stein\, Fiddler on the Roof JR....
DTSTART;TZID=America/New_York:20200124T190000
DTEND;TZID=America/New_York:20200126T140000
END:VEVENT
END:VCALENDAR
