BEGIN:VCALENDAR
PRODID:-//eluceo/ical//2.0/EN
VERSION:2.0
CALSCALE:GREGORIAN
BEGIN:VEVENT
UID:a40dc23da082a4e89741d5c21e58b9e7
DTSTAMP:20260423T214030Z
SUMMARY:Film: Mr. Connolly has ALS
DESCRIPTION:Jewish Federation of New Hampshire\nCommunity Calendar\nhttps:/
 /jewishnh.org/community-calendar/film-mr-connolly-has-als\n\nMr. Connolly 
 has ALS\n(2017\, 32 minutes)\n\nA moving film by Dan Habib tells the story
  of Gene Connolly\, a Concord\, NH school principal who was embraced by hi
 s community after being diagnosed with ALS in 2014.\n\nGuest speaker (TBA)
  with a post-film discussion. \n\nAdmission: No charge but a donation of 
 $5.00 per person is suggested.\n\n 
DTSTART;TZID=America/New_York:20180408T150000
DTEND;TZID=America/New_York:20180408T170000
END:VEVENT
END:VCALENDAR
