BEGIN:VCALENDAR
PRODID:-//eluceo/ical//2.0/EN
VERSION:2.0
CALSCALE:GREGORIAN
BEGIN:VEVENT
UID:b682a37c8135ac4ccbd2d656eb804b58
DTSTAMP:20260422T223135Z
SUMMARY:Finding Your Family: Jewish Genealogy Workshop
DESCRIPTION:Jewish Federation of New Hampshire\nCommunity Calendar\nhttps:/
 /jewishnh.org/community-calendar/finding-your-family-jewish-genealogy-work
 shop-1576002695\n\nThe presentation by Dr. Fred Feldman will cover getting
  started recording your personal genealogy / family history\, how to const
 ruct your family tree\, the choices available on recording and storing it\
 , as well as choices on using computer software packages. Options and bene
 fits will be discussed for using internet resources such as Ancestry.com\,
  Geni.com\, or the Mormon (LDS) Family History Library. Examples of data a
 nd family trees obtained\, both from the U.S. and Europe will be shown and
 \, gi...
DTSTART;TZID=America/New_York:20190105T140000
DTEND;TZID=America/New_York:20190105T160000
END:VEVENT
END:VCALENDAR
