BEGIN:VCALENDAR
PRODID:-//eluceo/ical//2.0/EN
VERSION:2.0
CALSCALE:GREGORIAN
BEGIN:VEVENT
UID:e3fbbb255fefd10df32a3374f8f95abf
DTSTAMP:20260424T014930Z
SUMMARY:First Annual Betenu Golf Tournament
DESCRIPTION:Jewish Federation of New Hampshire\nCommunity Calendar\nhttps:/
 /jewishnh.org/community-calendar/first-annual-betenu-golf-tournament-15567
 31969\n\nFirst Annual Betenu Golf Tournament at Shattuck Golf Club in Jaff
 rey\, NH. Entry fee includes Prizes for Low Team. Closest to Pin\, Long Dr
 ive. Steak dinner to follow the golf.
DTSTART;TZID=America/New_York:20190518T133000
DTEND;TZID=America/New_York:20190518T170000
END:VEVENT
END:VCALENDAR
