BEGIN:VCALENDAR
PRODID:-//eluceo/ical//2.0/EN
VERSION:2.0
CALSCALE:GREGORIAN
BEGIN:VEVENT
UID:c068885b0ae4e34139d597f2833e75a5
DTSTAMP:20260422T234143Z
SUMMARY:First Car Menorah Parade in NH!
DESCRIPTION:Jewish Federation of New Hampshire\nCommunity Calendar\nhttps:/
 /jewishnh.org/community-calendar/first-car-menorah-parade-in-nh-1575322924
 \n\nFIRST TIME IN NH\nCAR MENORAH PARADE\n\nTHURSDAY | DECEMBER 26 - 2:30 
 PM - 3:30 PM\nFrom Durham to Newington (Through Portsmouth)\n\n- Drive a c
 ar and make history\n- Fun for the whole Family\n- Be a Chanukah angel and
  help sponsor a car\nmenorah fo $180\n\nRSVP at JewishSeacoast.com/ParadeN
 H
DTSTART;TZID=America/New_York:20191226T143000
DTEND;TZID=America/New_York:20191226T153000
END:VEVENT
END:VCALENDAR
