BEGIN:VCALENDAR
PRODID:-//eluceo/ical//2.0/EN
VERSION:2.0
CALSCALE:GREGORIAN
BEGIN:VEVENT
UID:9b9c23582fef2c86d5d3758323f4a891
DTSTAMP:20260423T080802Z
SUMMARY:First Friday Alternative Service with Speaker JerriAnne Boggis
DESCRIPTION:Jewish Federation of New Hampshire\nCommunity Calendar\nhttps:/
 /jewishnh.org/community-calendar/first-friday-alternative-service-with-spe
 aker-jerrianne-boggis-1646938298\n\nPlease join Temple Israel\, Portsmouth
 \, on the "first Friday" of every month for a special Kabbalat Shabbat ser
 vice. In April\, we welcome guest speaker JerriAnne Boggis\, Executive Dir
 ector of the Black Heritage Trail of NH\, sponsored by the Tikkun Olam Com
 mittee.\n\nAbout our speaker: JerriAnne Boggis is the executive director o
 f the Black Heritage Trail of New Hampshire\, the founder and director of 
 The Harriet Wilson Project\; and the previous Director of Diversity Progra
 ms & Community Outreac...
DTSTART;TZID=America/New_York:20220401T183000
DTEND;TZID=America/New_York:20220401T193000
END:VEVENT
END:VCALENDAR
