BEGIN:VCALENDAR
PRODID:-//eluceo/ical//2.0/EN
VERSION:2.0
CALSCALE:GREGORIAN
BEGIN:VEVENT
UID:ec69c7d62171e0d7a33cbd4acabdfe87
DTSTAMP:20260423T000516Z
SUMMARY:First Friday Tot Shabbat
DESCRIPTION:Jewish Federation of New Hampshire\nCommunity Calendar\nhttps:/
 /jewishnh.org/community-calendar/first-friday-tot-shabbat---december-16681
 28959\n\nTemple Israel Portsmouth's "First Friday" kid-friendly musical Sh
 abbat experience is led monthly by Rabba Kaya Stern-Kaufman\, with special
  musical guests Lisa Jane Lipkin and Jay Hitt.\n\nGeared for children age 
 5 and under\; all are welcome. Kindly register on the temple's website cal
 endar. https://templeisraelnh.shulcloud.com/calendar
DTSTART;TZID=America/New_York:20221202T163000
DTEND;TZID=America/New_York:20221202T173000
END:VEVENT
END:VCALENDAR
