BEGIN:VCALENDAR
PRODID:-//eluceo/ical//2.0/EN
VERSION:2.0
CALSCALE:GREGORIAN
BEGIN:VEVENT
UID:c2500bc516816052826006af04944925
DTSTAMP:20260423T114347Z
SUMMARY:First Night Portsmouth Musical Celebration
DESCRIPTION:Jewish Federation of New Hampshire\nCommunity Calendar\nhttps:/
 /jewishnh.org/community-calendar/first-night-portsmouth-musical-celebratio
 n-1573154986\n\nTemple Israel will host Randy Armstrong and Genevieve Aich
 ele\, presenting stories and music from around the world. For more informa
 tion about the performers and to purchase a button\, please contact First 
 Night Portsmouth at https://www.proportsmouth.org/firstnight.cfm Family an
 d discount pricing available.
DTSTART;TZID=America/New_York:20191231T200000
DTEND;TZID=America/New_York:20191231T234500
END:VEVENT
END:VCALENDAR
