BEGIN:VCALENDAR
PRODID:-//eluceo/ical//2.0/EN
VERSION:2.0
CALSCALE:GREGORIAN
BEGIN:VEVENT
UID:c7c56747babcbda1fb0c17297eeacacb
DTSTAMP:20260423T194005Z
SUMMARY:First Chat with Shaliach Ra'anan De-Has
DESCRIPTION:Jewish Federation of New Hampshire\nCommunity Calendar\nhttps:/
 /jewishnh.org/community-calendar/fist-chat-with-shaliach-raanan-de-has\n\n
 Join us live on Zoom and Facebook for our first chat with new Shaliach Ra'
 anan De-Has.\n\nCurrent Shlicha Avia will lead the conversation as we get 
 to know a litte about Ra'anan before his arrival on August 1st.\n\nHave a 
 question you want us to ask? Email it to shlicha@jewishnh.org by June 24th
 .\n\nRegister for the Zoom Webinar or join us live on the JFNH Facebook pa
 ge
DTSTART;TZID=America/New_York:20210627T140000
DTEND;TZID=America/New_York:20210627T160000
END:VEVENT
END:VCALENDAR
