BEGIN:VCALENDAR
PRODID:-//eluceo/ical//2.0/EN
VERSION:2.0
CALSCALE:GREGORIAN
BEGIN:VEVENT
UID:29c7a9954c521cac57a6f2cbafe9d711
DTSTAMP:20260424T152615Z
SUMMARY:We Care/Temple B'Nai Israel Presents: Five O'Clock Shadow Benefit C
 oncert
DESCRIPTION:Jewish Federation of New Hampshire\nCommunity Calendar\nhttps:/
 /jewishnh.org/community-calendar/five-oclock-shadow-benefit-concert-155442
 6528\n\n By purchasing a ticket for $27.50 you will enjoy great music\, fo
 od\, and drink while supporting a local agency that provides vital service
 s to the Lakes Region community.  Complimentary snacks and desserts can be
  enjoyed at 7:00 P.M. and the concert begins at 7:45 P.M.  Tickets are ava
 ilable at WWW.TBINH.ORG\, or at the Innisfree Bookshop in Meredith\, Baysw
 ater Books in Center Harbor and Greenlaws Music and Audio in Laconia.   Pr
 esented by We Care of Temple B'nai Israel\n\n
DTSTART;TZID=America/New_York:20190525T190000
DTEND;TZID=America/New_York:20190525T220000
END:VEVENT
END:VCALENDAR
