BEGIN:VCALENDAR
PRODID:-//eluceo/ical//2.0/EN
VERSION:2.0
CALSCALE:GREGORIAN
BEGIN:VEVENT
UID:c753c5d86c2da3d86b887b99b7923fd7
DTSTAMP:20260422T220258Z
SUMMARY:Five O'Clock Shadow in Concert
DESCRIPTION:Jewish Federation of New Hampshire\nCommunity Calendar\nhttps:/
 /jewishnh.org/community-calendar/five-oclock-shadow-in-concert-1630359105\
 n\nWe Care of Temple B’nai Israel presents a return engagement of Five O
 ’Clock Shadow (focs.com) on October 23\, 2021 at the newly refurbished C
 olonial Theatre in Laconia.   The show will begin at 7:00 P.M.  Tickets fo
 r reserved seats are $30.00 per person.   Students with ID are $15.00.  Fo
 r everyone’s safety\, reserved seating will be physically distanced\, an
 d masks are required at all times when in the theatre. More information ab
 out tickets and safety precautions are at ...
DTSTART;TZID=America/New_York:20211023T190000
DTEND;TZID=America/New_York:20211023T210000
END:VEVENT
END:VCALENDAR
