BEGIN:VCALENDAR
PRODID:-//eluceo/ical//2.0/EN
VERSION:2.0
CALSCALE:GREGORIAN
BEGIN:VEVENT
UID:57abebe0000d7c7ec231e5b36e6fb730
DTSTAMP:20260422T192739Z
SUMMARY:For the Sake of Heaven:  How Judaism Teaches us to Disagree Constru
 ctively
DESCRIPTION:Jewish Federation of New Hampshire\nCommunity Calendar\nhttps:/
 /jewishnh.org/community-calendar/for-the-sake-of-heaven--how-judaism-teach
 es-us-to-disagree-constructively-1667319932\n\nThe Pardes Institute of Jew
 ish Studies in Jerusalem\, an educational center that has years of experie
 nce bringing together different types of Jews\, has been teaching about th
 is topic with a curriculum called Mahloket Matters. I was able to learn fr
 om their teachers about it\, first in Jerusalem a few years ago and more r
 ecently online. I believe it&#039\;s one of the most important lessons Jud
 aism has for us in today’s world. This fall\, I’ll be teaching it to m
 y community in a series of adult...
DTSTART;TZID=America/New_York:20221117T190000
DTEND;TZID=America/New_York:20221117T210000
END:VEVENT
END:VCALENDAR
