BEGIN:VCALENDAR
PRODID:-//eluceo/ical//2.0/EN
VERSION:2.0
CALSCALE:GREGORIAN
BEGIN:VEVENT
UID:7ea25cb83759959c89d31108f464d243
DTSTAMP:20260423T114702Z
SUMMARY:For the Sake of Heaven:  How Judaism Teaches us to Disagree Constru
 ctively
DESCRIPTION:Jewish Federation of New Hampshire\nCommunity Calendar\nhttps:/
 /jewishnh.org/community-calendar/for-the-sale-of-heaven--how-judaism-teach
 es-us-to-disagree-constructively-1667320469\n\nThe Pardes Institute of Jew
 ish Studies in Jerusalem\, an educational center that has years of experie
 nce bringing together different types of Jews\, has been teaching about th
 is topic with a curriculum called Mahloket Matters. I was able to learn fr
 om their teachers about it\, first in Jerusalem a few years ago and more r
 ecently online. I believe it's one of the most important lessons Judaism h
 as for us in today’s world. This fall\, I’ll be teaching it to my comm
 unity in a series of adult...
DTSTART;TZID=America/New_York:20221208T190000
DTEND;TZID=America/New_York:20221208T210000
END:VEVENT
END:VCALENDAR
