BEGIN:VCALENDAR
PRODID:-//eluceo/ical//2.0/EN
VERSION:2.0
CALSCALE:GREGORIAN
BEGIN:VEVENT
UID:3b75fa219a6d6f4959c18c5442b865cd
DTSTAMP:20260422T171259Z
SUMMARY:Etz Hayim Synagogue presents Forgotten Refugees Film  by Zoom\,
DESCRIPTION:Jewish Federation of New Hampshire\nCommunity Calendar\nhttps:/
 /jewishnh.org/community-calendar/forgotten-refugees-film--by-zoom-16416859
 89\n\ncontact Stephen Soreff\, MD . to get Zoom link
DTSTART;TZID=America/New_York:20220113T190000
DTEND;TZID=America/New_York:20220113T210000
END:VEVENT
END:VCALENDAR
