BEGIN:VCALENDAR
PRODID:-//eluceo/ical//2.0/EN
VERSION:2.0
CALSCALE:GREGORIAN
BEGIN:VEVENT
UID:d9609817ef7ce4b5005cc18fa2eca9e9
DTSTAMP:20260422T234209Z
SUMMARY:Fox Run Mall Chanukah Celebration and Gelt Drop
DESCRIPTION:Jewish Federation of New Hampshire\nCommunity Calendar\nhttps:/
 /jewishnh.org/community-calendar/fox-run-mall-chanukah-celebration-and-gel
 t-drop-1636736693\n\nChanukah Celebration & Gelt Drop At The Mall at Fox r
 un When: Sunday\, November 28th 3:30pm Where: Fox Run Mall Outside Men’s
  Macy’s Why: Celebrate Chanukah Together! DONUTS DREIDLES GELT CRAFTS Fr
 ee of charge For more info visit JewishSeacoast.com/Mall 603-205-6598
DTSTART;TZID=America/New_York:20211128T153000
DTEND;TZID=America/New_York:20211128T163000
END:VEVENT
END:VCALENDAR
