BEGIN:VCALENDAR
PRODID:-//eluceo/ical//2.0/EN
VERSION:2.0
CALSCALE:GREGORIAN
BEGIN:VEVENT
UID:2186c236a4c625c504c741c1aa43bfb3
DTSTAMP:20260422T044331Z
SUMMARY:Temple Israel Friday Family Shabbat & Dinner
DESCRIPTION:Jewish Federation of New Hampshire\nCommunity Calendar\nhttps:/
 /jewishnh.org/community-calendar/friday-family-shabbat--dinner-1698429275\
 n\nPlease join us to welcome the Shabbos and share a community meal. You 
 must RSVP to the office.
DTSTART;TZID=America/New_York:20231117T180000
DTEND;TZID=America/New_York:20231117T200000
END:VEVENT
END:VCALENDAR
