BEGIN:VCALENDAR
PRODID:-//eluceo/ical//2.0/EN
VERSION:2.0
CALSCALE:GREGORIAN
BEGIN:VEVENT
UID:dc07b95a11d13b7ce91aede89820451e
DTSTAMP:20260422T123303Z
SUMMARY:Friday Night Shabbes and Pot Luck
DESCRIPTION:Jewish Federation of New Hampshire\nCommunity Calendar\nhttps:/
 /jewishnh.org/community-calendar/friday-night-shabbes-and-pot-luck-1687120
 788\n\nCome celebrate Shabbes and bring something to eat and share (no por
 k or shellfish\, please).
DTSTART;TZID=America/New_York:20230630T180000
DTEND;TZID=America/New_York:20230630T210000
END:VEVENT
END:VCALENDAR
