BEGIN:VCALENDAR
PRODID:-//eluceo/ical//2.0/EN
VERSION:2.0
CALSCALE:GREGORIAN
BEGIN:VEVENT
UID:e9e4d57d9b3a72443df137db6a37f06a
DTSTAMP:20260423T034259Z
SUMMARY:Friday Shabbat Family Service
DESCRIPTION:Jewish Federation of New Hampshire\nCommunity Calendar\nhttps:/
 /jewishnh.org/community-calendar/friday-shabbat-family-service-1673381207\
 n\nFamily Shabbat with February Birthday Blessings
DTSTART;TZID=America/New_York:20230203T180000
DTEND;TZID=America/New_York:20230203T185500
END:VEVENT
END:VCALENDAR
