BEGIN:VCALENDAR
PRODID:-//eluceo/ical//2.0/EN
VERSION:2.0
CALSCALE:GREGORIAN
BEGIN:VEVENT
UID:3ef7f94a6ee6ee70c198eb11766d77c5
DTSTAMP:20260424T000118Z
SUMMARY:Temple Adath Yeshurun Friday Shabbat Family Service
DESCRIPTION:Jewish Federation of New Hampshire\nCommunity Calendar\nhttps:/
 /jewishnh.org/community-calendar/friday-shabbat-family-service-1675023597\
 n\nFamily friendly Shabbat Service at TAY.\n\nThe Service is geared to you
 ng families and open to all.
DTSTART;TZID=America/New_York:20230303T180000
DTEND;TZID=America/New_York:20230303T200000
END:VEVENT
END:VCALENDAR
