BEGIN:VCALENDAR
PRODID:-//eluceo/ical//2.0/EN
VERSION:2.0
CALSCALE:GREGORIAN
BEGIN:VEVENT
UID:b049fafae18c8dc93f5b361fb94283c2
DTSTAMP:20260423T152445Z
SUMMARY:Friends-Giving For Young Adults
DESCRIPTION:Jewish Federation of New Hampshire\nCommunity Calendar\nhttps:/
 /jewishnh.org/community-calendar/friends-giving-for-young-adults-169867743
 9\n\nThe Jewish Federation of New Hampshire and Temple Beth Abraham\, Nash
 ua are hosting a Friends-Giving Havdalah and potluck dinner for young adul
 ts (20's - 40's) at The Jewish Federation of New Hampshire. We will meet n
 ew people and have great food and drinks! We will leave space for discussi
 ng Israel for those who wish to do so.\n\nPlease RSVP to Guy Ben David at 
 shaliach@jewishnh.org.\n\nAlso\, please fill out the form and let us know 
 what you're bringing! Go to our website https://www.tbanashu...
DTSTART;TZID=America/New_York:20231104T183000
DTEND;TZID=America/New_York:20231104T203000
END:VEVENT
END:VCALENDAR
