BEGIN:VCALENDAR
PRODID:-//eluceo/ical//2.0/EN
VERSION:2.0
CALSCALE:GREGORIAN
BEGIN:VEVENT
UID:5d3d5a967fe60689f962c07d88479701
DTSTAMP:20260423T210244Z
SUMMARY:From Swastika to Jim Crow
DESCRIPTION:Jewish Federation of New Hampshire\nCommunity Calendar\nhttps:/
 /jewishnh.org/community-calendar/from-swastika-to-jim-crow-1707990314\n\nF
 rom Swastika to Jim Crow is the little-known story of Jewish scholars who 
 fled to the United States from Nazi Germany. Confronted with American anti
 semitism and unable to find employment in major universities\, a surprisin
 g number found an unexpected refuge teaching at historically Black college
 s in the segregated South. The program is free\, and everyone is welcome. 
  Register at LappinFoundation.org. For more information\, contact Sharon W
 yner at 978-565-4450 or email swyner@lappinfoundation.org.
DTSTART;TZID=America/New_York:20240225T160000
DTEND;TZID=America/New_York:20240225T173000
END:VEVENT
END:VCALENDAR
