BEGIN:VCALENDAR
PRODID:-//eluceo/ical//2.0/EN
VERSION:2.0
CALSCALE:GREGORIAN
BEGIN:VEVENT
UID:bd17357e8d0a111172356296809490ea
DTSTAMP:20260423T084105Z
SUMMARY:Seacoast Chabad Frozen Chanukah On Ice
DESCRIPTION:Jewish Federation of New Hampshire\nCommunity Calendar\nhttps:/
 /jewishnh.org/community-calendar/frozen-chanukah-on-ice-1668017925\n\nCome
  join us for our CHANUKAH ON ICE (FROZEN)!\n\nSunday\, December 18th\, 2-4
 pm\n-Skate to Jewish Music\n-Lighting a giant menorah\n-The Dreidel man\,\
 n- Donuts & Chocolate gelt\n-Arts and Crafts\n-Hot coffee\n-Skate with ola
 f\nAnd more..\n\n@The Labrie Family Skate - Strawbery Banke Museum\n14 Han
 cock Street Portsmouth NH 03801\n\nADMISSION $5 PP | SKATES RENTAL $6\nReg
 istration required at JewishSeacoast.com/Ice
DTSTART;TZID=America/New_York:20221218T140000
DTEND;TZID=America/New_York:20221218T160000
END:VEVENT
END:VCALENDAR
