BEGIN:VCALENDAR
PRODID:-//eluceo/ical//2.0/EN
VERSION:2.0
CALSCALE:GREGORIAN
BEGIN:VEVENT
UID:45409a82629b4d0604dc3f02530b5063
DTSTAMP:20260422T224012Z
SUMMARY:Futures Past - NH Jewish Film Festival
DESCRIPTION:Jewish Federation of New Hampshire\nCommunity Calendar\nhttps:/
 /jewishnh.org/community-calendar/futures-past---nh-jewish-film-festival-15
 81454124\n\nNew Hampshire Premiere\nCinemagic\, Merrimack\, NH\n\nSPECIAL 
 GUEST: Jordan Melamed\n\nDirector: Jordan Melamed\nDocumentary\, 2016\, US
 A\n89 minutes\nEnglish\n\nSet against the last days of trading in the lege
 ndary Chicago pits\, Futures Past captures the power struggle between film
 maker Jordan Melamed and his father\, Leo Melamed\, Holocaust survivor and
  kingpin of the Chicago Mercantile Exchange. What begins as a documentary 
 of the end of an era becomes a deeply personal exploration by a son retu..
 .
DTSTART;TZID=America/New_York:20200322T153000
DTEND;TZID=America/New_York:20200322T173000
END:VEVENT
END:VCALENDAR
