BEGIN:VCALENDAR
PRODID:-//eluceo/ical//2.0/EN
VERSION:2.0
CALSCALE:GREGORIAN
BEGIN:VEVENT
UID:7b22aafc5334f345e540f2a3ccb98f90
DTSTAMP:20260422T110023Z
SUMMARY:G-d Shopping Shavuot Program
DESCRIPTION:Jewish Federation of New Hampshire\nCommunity Calendar\nhttps:/
 /jewishnh.org/community-calendar/g-d-shopping-shavuot-program-1649639440\n
 \nThis is an interactive and hands on program for Shavuot that is challeng
 ing\, stimulating and fun\, but also spiritual and deep in personal meanin
 g. Participants will create and craft representations of their work that t
 hey can take home.
DTSTART;TZID=America/New_York:20220604T191500
DTEND;TZID=America/New_York:20220604T204500
END:VEVENT
END:VCALENDAR
