BEGIN:VCALENDAR
PRODID:-//eluceo/ical//2.0/EN
VERSION:2.0
CALSCALE:GREGORIAN
BEGIN:VEVENT
UID:1a6257e4de5c8ddbe40de88f54512db2
DTSTAMP:20260422T135756Z
SUMMARY:Game Night at Etz Hayim Synagogue
DESCRIPTION:Jewish Federation of New Hampshire\nCommunity Calendar\nhttps:/
 /jewishnh.org/community-calendar/game-night-at-etz-hayim-synagogue-1697722
 912\n\nJoin us for Game Night at Etz Hayim Synagogue.  Pot luck snacks\, B
 YOB\, bring a game.  $5 for non-members.  Sign up at https://www.signupgen
 ius.com/go/805094CAFA62CA31-44352272-etzhayim#/
DTSTART;TZID=America/New_York:20231021T183000
DTEND;TZID=America/New_York:20231021T210000
END:VEVENT
END:VCALENDAR
