BEGIN:VCALENDAR
PRODID:-//eluceo/ical//2.0/EN
VERSION:2.0
CALSCALE:GREGORIAN
BEGIN:VEVENT
UID:beee2151f5d1e2a78c3a2528fe179b65
DTSTAMP:20260423T053340Z
SUMMARY:Genetic Testing Program
DESCRIPTION:Jewish Federation of New Hampshire\nCommunity Calendar\nhttps:/
 /jewishnh.org/community-calendar/genetic-testing-program-1662561591\n\nWha
 t do you know about your genetic material – and how much do you want to 
 know? On Wednesday evening\, Sept. 14\, Drs. Stephanie Wolf-Rosenblum and 
 Marissa Baltus will explain how to get reliable screening tests for Jewish
  genetic diseases such as Gaucher\, Cystic Fibrosis and Tay-Sachs\, as wel
 l as tests for some hereditary cancers. They will also discuss how to mana
 ge potential health challenges and issues around privacy.\nDr. Stephanie W
 olf-Rosenblum is a former Chief Medical Officer at Sou...
DTSTART;TZID=America/New_York:20220914T183000
DTEND;TZID=America/New_York:20220914T200000
END:VEVENT
END:VCALENDAR
