BEGIN:VCALENDAR
PRODID:-//eluceo/ical//2.0/EN
VERSION:2.0
CALSCALE:GREGORIAN
BEGIN:VEVENT
UID:18469e52ad6f2148e6ff9b00acce0e31
DTSTAMP:20260424T071213Z
SUMMARY:Genocide Awareness Lecture Series – Tibi Galis
DESCRIPTION:Jewish Federation of New Hampshire\nCommunity Calendar\nhttps:/
 /jewishnh.org/community-calendar/genocide-awareness-lecture-series-tibi-ga
 lis\n\nDr. Tibi Galis has been the Executive Director of the Auschwitz Ins
 titute for Peace and Reconciliation (AIPR) since 2006
DTSTART;TZID=America/New_York:20180409T190000
DTEND;TZID=America/New_York:20180409T210000
END:VEVENT
END:VCALENDAR
