BEGIN:VCALENDAR
PRODID:-//eluceo/ical//2.0/EN
VERSION:2.0
CALSCALE:GREGORIAN
BEGIN:VEVENT
UID:f6f88de6aebd05a2321e52eb97bc642d
DTSTAMP:20260422T154627Z
SUMMARY:Geoffrey Brahmer Presents Talk About Life of Primo Levy
DESCRIPTION:Jewish Federation of New Hampshire\nCommunity Calendar\nhttps:/
 /jewishnh.org/community-calendar/geoffrey-brahmer-presents-talk-about-life
 -of-primo-levy-1570206693\n\nGeoffrey Brahmer Presents Life and Writings o
 f Primo Levi October 17\n     Guest Speaker Geoffrey Brahmer appears in Be
 thlehem\, NH\, at 7 p.m.\, Thursday\, October 17\, in the Bethlehem Public
  Library with a PowerPoint presentation of the life and writings of Holoca
 ust survivor Primo Levi and the extent of the Holocaust in Italy. Through 
 the lens of Levi’s own Holocaust experiences and reflections\, one may l
 earn some of the lessons of the Holocaust for our own times.  \n     Levi 
 was once...
DTSTART;TZID=America/New_York:20191017T190000
DTEND;TZID=America/New_York:20191017T210000
END:VEVENT
END:VCALENDAR
