BEGIN:VCALENDAR
PRODID:-//eluceo/ical//2.0/EN
VERSION:2.0
CALSCALE:GREGORIAN
BEGIN:VEVENT
UID:6974cfdccd4488c2c3debf8d2571abb5
DTSTAMP:20260422T224002Z
SUMMARY:GI Jews: Jewish Americans in World War II\,   A PBS Film
DESCRIPTION:Jewish Federation of New Hampshire\nCommunity Calendar\nhttps:/
 /jewishnh.org/community-calendar/gi-jews-jewish-americans-in-world-war-ii-
 --a-pbs-film-1609935134\n\nThis is part of Etz Hayim Synagogue’s Adult C
 ontinuing Education Program called Hot Topics and Cool Contemporary Stuff.
  To get the Zoom link please contact office@etzhayim.org  for More informa
 tion\, please contact: Stephen Soreff\, MD\, at soreffs15@aol.com or 603-8
 95-6120   
DTSTART;TZID=America/New_York:20210114T190000
DTEND;TZID=America/New_York:20210114T210000
END:VEVENT
END:VCALENDAR
