BEGIN:VCALENDAR
PRODID:-//eluceo/ical//2.0/EN
VERSION:2.0
CALSCALE:GREGORIAN
BEGIN:VEVENT
UID:26d299c9592ead7ceb0bae9e74d45c6a
DTSTAMP:20260424T133122Z
SUMMARY:Gimel / Dalet / Hai Class Service
DESCRIPTION:Jewish Federation of New Hampshire\nCommunity Calendar\nhttps:/
 /jewishnh.org/community-calendar/gimel-dalet--hai-class-service\n\nFriday 
 night Shabbat service led by religious school students. No cost and no RSV
 P required. More information: 883-8184
DTSTART;TZID=America/New_York:20180413T190000
DTEND;TZID=America/New_York:20180413T200000
END:VEVENT
END:VCALENDAR
