BEGIN:VCALENDAR
PRODID:-//eluceo/ical//2.0/EN
VERSION:2.0
CALSCALE:GREGORIAN
BEGIN:VEVENT
UID:bbdb322aa661ecc302123637a05249c2
DTSTAMP:20260422T234929Z
SUMMARY:Girl Scout Shabbat at Etz Hayim Synagogue
DESCRIPTION:Jewish Federation of New Hampshire\nCommunity Calendar\nhttps:/
 /jewishnh.org/community-calendar/girl-scout-shabbat-at-etz-hayim-synagogue
 -1581955408\n\nEtz Hayim Synagogue welcomes all Girl Scouts to celebrate G
 irl Scout Shabbat on Friday\, March 13th at 7:15 pm. All Girl Scouts who a
 ttend will get a patch and of course we will serve Girl Scout cookies at t
 he Oneg after the service.\n\nGirl Scouts is a value-based organization th
 at encourages members to explore their faith in relationship to the Girl S
 cout Law. During Girl Scout week March 8th thru 14th\, girls are encourage
 d to learn something new about faiths other than their own.
DTSTART;TZID=America/New_York:20200313T191500
DTEND;TZID=America/New_York:20200313T203000
END:VEVENT
END:VCALENDAR
