BEGIN:VCALENDAR
PRODID:-//eluceo/ical//2.0/EN
VERSION:2.0
CALSCALE:GREGORIAN
BEGIN:VEVENT
UID:3d24b66fe15aed26ca788833056268a1
DTSTAMP:20260422T082238Z
SUMMARY:Girl Scout Shabbat at Etz Hayim Synagogue
DESCRIPTION:Jewish Federation of New Hampshire\nCommunity Calendar\nhttps:/
 /jewishnh.org/community-calendar/girl-scout-shabbat-at-etz-hayim-synagogue
 -1643920157\n\nGirl Scout Shabbat at Etz Hayim Synagogue on Friday\, March
  11\, 2022
DTSTART;TZID=America/New_York:20220311T191500
DTEND;TZID=America/New_York:20220311T203000
END:VEVENT
END:VCALENDAR
