BEGIN:VCALENDAR
PRODID:-//eluceo/ical//2.0/EN
VERSION:2.0
CALSCALE:GREGORIAN
BEGIN:VEVENT
UID:2c0334e7316b373b10c12526b0a3c023
DTSTAMP:20260424T062017Z
SUMMARY:Girl Scout Shabbat at Etz Hayim Synagogue
DESCRIPTION:Jewish Federation of New Hampshire\nCommunity Calendar\nhttps:/
 /jewishnh.org/community-calendar/girl-scout-shabbat-at-etz-hayim-synagogue
 -1675442575\n\nGirl Scout Shabbat Services on Friday March 17 from 7:15 un
 til 8:30 at Eyz Hayim Synagogue.
DTSTART;TZID=America/New_York:20230317T191500
DTEND;TZID=America/New_York:20230317T203000
END:VEVENT
END:VCALENDAR
