BEGIN:VCALENDAR
PRODID:-//eluceo/ical//2.0/EN
VERSION:2.0
CALSCALE:GREGORIAN
BEGIN:VEVENT
UID:d746f0cddd4317ea9dc2a40aafaf1f49
DTSTAMP:20260422T213255Z
SUMMARY:Global Connections with Robert Siegel: What’s next in Washington 
 D.C.?
DESCRIPTION:Jewish Federation of New Hampshire\nCommunity Calendar\nhttps:/
 /jewishnh.org/community-calendar/global-connections-with-robert-siegel-wha
 ts-next-in-washington-dc-1699556698\n\nRobert Siegel (NPR) interviews: Emi
 ly Bazelon\, Aaron David Miller\, and E.J. Dionne Jr.
DTSTART;TZID=America/New_York:20231115T160000
DTEND;TZID=America/New_York:20231115T170000
END:VEVENT
END:VCALENDAR
