BEGIN:VCALENDAR
PRODID:-//eluceo/ical//2.0/EN
VERSION:2.0
CALSCALE:GREGORIAN
BEGIN:VEVENT
UID:68aba9eba4c8066f54d3576461923592
DTSTAMP:20260423T040525Z
SUMMARY:Good Deeds Day for Teens
DESCRIPTION:Jewish Federation of New Hampshire\nCommunity Calendar\nhttps:/
 /jewishnh.org/community-calendar/good-deeds-day-for-teens\n\nJewish Teens 
 of New Hampshire!\nWe are excited to invite you to the first of its kind G
 ood Deeds Day in New Hampshire! \n\nCome and meet the Israeli Shlicha at t
 he New Horizons for New Hampshire in Manchester\, parents are welcome to j
 oin us too. Teens from 15 different synagogues + unaffiliated are invited
  to this event\, come meet this unique group of people as you do good and 
 give back to the community.\n\nFree T-shirts and other swag!\n\nRSVP is a 
 must - Space is limited \n603-627-7679 or ...
DTSTART;TZID=America/New_York:20190422T113000
DTEND;TZID=America/New_York:20190422T133000
END:VEVENT
END:VCALENDAR
