BEGIN:VCALENDAR
PRODID:-//eluceo/ical//2.0/EN
VERSION:2.0
CALSCALE:GREGORIAN
BEGIN:VEVENT
UID:e686baf215a4ba9874023da1572752b1
DTSTAMP:20260422T091534Z
SUMMARY:Good Morning Son -  NH Jewish Film Festival
DESCRIPTION:Jewish Federation of New Hampshire\nCommunity Calendar\nhttps:/
 /jewishnh.org/community-calendar/good-morning-son----nh-jewish-film-festiv
 al-1581452701\n\nGood Morning Son\nNew Hampshire Premiere\nSunday\, March 
 22\, 2020\, 1:00 PM\nCinemagic\, Merrimack\, NH\nAdmission: $12.00\n\nDire
 ctor: Sharon Bar-Ziv\nNarrative Feature\, 2018\, Israel\n84 minutes\nHebre
 w with English subtitles\n\nAfter Ori\, a young IDF soldier\, is criticall
 y injured during a botched military operation in Gaza\, he lies comatose\,
  clinging to life. During months of rehabilitation\, family\, friends\, do
 ctors\, and therapists come together in support of Oris recovery. Filled w
 ith heartbr...
DTSTART;TZID=America/New_York:20200322T130000
DTEND;TZID=America/New_York:20200322T150000
END:VEVENT
END:VCALENDAR
