BEGIN:VCALENDAR
PRODID:-//eluceo/ical//2.0/EN
VERSION:2.0
CALSCALE:GREGORIAN
BEGIN:VEVENT
UID:fb77f6d5879a6bc7542c76381d5cdf7e
DTSTAMP:20260423T065513Z
SUMMARY:Goodbye Picnic for Noam
DESCRIPTION:Jewish Federation of New Hampshire\nCommunity Calendar\nhttps:/
 /jewishnh.org/community-calendar/goodbye-picnic-for-noam\n\nBring your fam
 ily and a picnic lunch and help us celebrate Noam and her amazing work ove
 r the past two years!\n\nBring your own picnic lunch a blanket/lawn chairs
  and enjoy music\, pony rides\, yard games and cake.\n\nRSVP to JFNH at 60
 3-627-7679 or info@jewishnh.org\n\n*This celebration is being held at a pr
 ivate farm in Goffstown. The address will be given with your RSVP*
DTSTART;TZID=America/New_York:20190728T110000
DTEND;TZID=America/New_York:20190728T140000
END:VEVENT
END:VCALENDAR
