BEGIN:VCALENDAR
PRODID:-//eluceo/ical//2.0/EN
VERSION:2.0
CALSCALE:GREGORIAN
BEGIN:VEVENT
UID:36ed96282e8c02697988cf8dde6f2f3d
DTSTAMP:20260423T080210Z
SUMMARY:Antisemtism: A Granite State Conversation and Panel Discussion
DESCRIPTION:Jewish Federation of New Hampshire\nCommunity Calendar\nhttps:/
 /jewishnh.org/community-calendar/granite-state-conversation-and-panel-disc
 ussion\n\nCongregation Ahavas Achim is holding a “Granite State Conversa
 tion and Panel Discussion”\, on Sunday\, April 16th\, 2023 at our Synago
 gue at 84 Hastings Ave.\, Keene\, NH 03431.  The event will run from 3:00
  to 4:30 pm.  Everyone is invited.  There is no charge.  We have four s
 peakers to listen to and speak with.  They are representatives from ADL\,
  the New Hampshire Human Rites Commission\, a representative from the NH A
 ttorney General’s Office\, and a representative from our local school...
DTSTART;TZID=America/New_York:20230416T150000
DTEND;TZID=America/New_York:20230416T163000
END:VEVENT
END:VCALENDAR
