BEGIN:VCALENDAR
PRODID:-//eluceo/ical//2.0/EN
VERSION:2.0
CALSCALE:GREGORIAN
BEGIN:VEVENT
UID:7df141ab9bde344dc19cd5a22ab0028c
DTSTAMP:20260424T032509Z
SUMMARY:Great Latke Blowout!
DESCRIPTION:Jewish Federation of New Hampshire\nCommunity Calendar\nhttps:/
 /jewishnh.org/community-calendar/great-latke-blowout-1671133126\n\nLatkes\
 , music\, dancing.
DTSTART;TZID=America/New_York:20221223T180000
DTEND;TZID=America/New_York:20221223T200000
END:VEVENT
END:VCALENDAR
