BEGIN:VCALENDAR
PRODID:-//eluceo/ical//2.0/EN
VERSION:2.0
CALSCALE:GREGORIAN
BEGIN:VEVENT
UID:17ec69b423e9fe4b2e0a28940b86b49a
DTSTAMP:20260422T081833Z
SUMMARY:Greater Nashua Crop Hunger Walk
DESCRIPTION:Jewish Federation of New Hampshire\nCommunity Calendar\nhttps:/
 /jewishnh.org/community-calendar/greater-nashua-crop-hunger-walk-153626477
 3\n\nTHE GREATER NASHUA CROP Hunger Walk is in it’s 34h year! Temple Bet
 h Abraham has been hosting and coordinating this interfaith walk since 201
 1. This year the walk takes place on Sunday\, October 28th beginning and e
 nding at Temple Beth Abraham\, 4 Raymond Street in Nashua. Registration is
  from 12 to 1 with opening ceremonies at 1 and stepping out at 1:30. This 
 year the walk features a new interesting 3.3 mile shorter route for all. T
 he Greater Nashua Area CROP Hunger Walk has raised over one ...
DTSTART;TZID=America/New_York:20181028T120000
DTEND;TZID=America/New_York:20181028T160000
END:VEVENT
END:VCALENDAR
