BEGIN:VCALENDAR
PRODID:-//eluceo/ical//2.0/EN
VERSION:2.0
CALSCALE:GREGORIAN
BEGIN:VEVENT
UID:2e8488fdcabc30a796491fd49bdd533a
DTSTAMP:20260424T044003Z
SUMMARY:Greater Nashua Interfaith CROP Hunger Walk
DESCRIPTION:Jewish Federation of New Hampshire\nCommunity Calendar\nhttps:/
 /jewishnh.org/community-calendar/greater-nashua-interfaith-crop-hunger-wal
 k-1666287095\n\nThe Greater Nashua Area CROP Hunger Walk has raised over o
 ne million dollars in its previous 38 years. We now have 21 teams and last
  year we raised $57\,084! Each of our 5 recipient agencies received $2\,84
 9. The money raised fights hunger and poverty around the world and locally
  and provides refugee and disaster relief through Church World Service. Th
 e Nashua Area Interfaith Council sponsors the event.\n\nYou can also find 
 us on Facebook! Just look for Nashua Cropwalk.\n\nTo sign up go to...
DTSTART;TZID=America/New_York:20221030T120000
DTEND;TZID=America/New_York:20221030T163000
END:VEVENT
END:VCALENDAR
