BEGIN:VCALENDAR
PRODID:-//eluceo/ical//2.0/EN
VERSION:2.0
CALSCALE:GREGORIAN
BEGIN:VEVENT
UID:2b613985826f5bd441339a4385dc1a81
DTSTAMP:20260423T021702Z
SUMMARY:Greater Nashua Interfaith CROP Hunger Walk
DESCRIPTION:Jewish Federation of New Hampshire\nCommunity Calendar\nhttps:/
 /jewishnh.org/community-calendar/greater-nashua-interfaith-crop-hunger-wal
 k-1697565304\n\nGREATER NASHUA CROP Hunger Walk: “We walk because they w
 alk.” This is our 39th year! The walk will take place on Sunday\, Octobe
 r 30th beginning and ending at Temple Beth Abraham\, 4 Raymond Street in N
 ashua. Registration is from 12 to 1 pm with opening ceremonies at 1pm and 
 stepping out at 1:30 pm. Registration and celebration are outside in the T
 BA tent.
DTSTART;TZID=America/New_York:20231022T120000
DTEND;TZID=America/New_York:20231022T163000
END:VEVENT
END:VCALENDAR
