BEGIN:VCALENDAR
PRODID:-//eluceo/ical//2.0/EN
VERSION:2.0
CALSCALE:GREGORIAN
BEGIN:VEVENT
UID:c91700e71bc515770f1c546294dc5bf2
DTSTAMP:20260424T073841Z
SUMMARY:Growing Antisemitism: To Fight it\, we need to understand it.
DESCRIPTION:Jewish Federation of New Hampshire\nCommunity Calendar\nhttps:/
 /jewishnh.org/community-calendar/growing-antisemitism-to-fight-it-we-need-
 to-understand-it\n\nPlease join us for a moderated discussion of readings 
 that can help us to understand the growing antisemitism on college campuse
 s\, in the streets of major cities and elsewhere. \n\nReadings will be pro
 vided in advance via email\, along with (for the time challenged) executiv
 e summaries of the readings. Free event. Light refreshments will be served
 .\n\nSunday\, December 3rd at 1pm. Private home in Goffstown\,  NH - addr
 ess sent to registered.\n\n\nContact info@jewishnh.org with questions.
DTSTART;TZID=America/New_York:20231203T130000
DTEND;TZID=America/New_York:20231203T150000
END:VEVENT
END:VCALENDAR
