BEGIN:VCALENDAR
PRODID:-//eluceo/ical//2.0/EN
VERSION:2.0
CALSCALE:GREGORIAN
BEGIN:VEVENT
UID:ca92c8dd53ad7c12463a169a411e9d33
DTSTAMP:20260424T132522Z
SUMMARY:Guns to Gardens
DESCRIPTION:Jewish Federation of New Hampshire\nCommunity Calendar\nhttps:/
 /jewishnh.org/community-calendar/guns-to-gardens\n\nHow it works:\n\nBring
  your unloaded firearm(s) in the trunk of your car or bed of your truck. Y
 our identity can remain anonymous\n\nA volunteer will guide you through th
 e process when you arrive. Remain in your vehicle at all times\n\nThe gun(
 s) will be removed from your vehicle by a volunteer who will deliver it to
  the chop saw operator\n\nThe chop saw operator will disable the gun. Scra
 p metal from the firearms will be donated to a metal artist to be transfor
 med later into garden tools and...
DTSTART;TZID=America/New_York:20230610T100000
DTEND;TZID=America/New_York:20230610T140000
END:VEVENT
END:VCALENDAR
