BEGIN:VCALENDAR
PRODID:-//eluceo/ical//2.0/EN
VERSION:2.0
CALSCALE:GREGORIAN
BEGIN:VEVENT
UID:5a1986298f99d160dd71873ca7880495
DTSTAMP:20260423T002924Z
SUMMARY:Hadassah Chapter Meeting
DESCRIPTION:Jewish Federation of New Hampshire\nCommunity Calendar\nhttps:/
 /jewishnh.org/community-calendar/hadassah-chapter-meeting-1565542767\n\nRa
 bbi Jerevmy Szczepanski  from Temple Israel will be the speaker.\nCarol Gr
 eenfield\,  chapter liason from NNE region will be joining us.
DTSTART;TZID=America/New_York:20190926T190000
DTEND;TZID=America/New_York:20190926T210000
END:VEVENT
END:VCALENDAR
