BEGIN:VCALENDAR
PRODID:-//eluceo/ical//2.0/EN
VERSION:2.0
CALSCALE:GREGORIAN
BEGIN:VEVENT
UID:b324be560b6b8756beeaa7869faa4fad
DTSTAMP:20260423T203308Z
SUMMARY:Hadassah Shabbat Service
DESCRIPTION:Jewish Federation of New Hampshire\nCommunity Calendar\nhttps:/
 /jewishnh.org/community-calendar/hadassah-shabbat-service-1705607140\n\nPl
 ease join the TI congregation and Hadassah members from the Jewish Communi
 ty.
DTSTART;TZID=America/New_York:20240315T180000
DTEND;TZID=America/New_York:20240315T200000
END:VEVENT
END:VCALENDAR
