BEGIN:VCALENDAR
PRODID:-//eluceo/ical//2.0/EN
VERSION:2.0
CALSCALE:GREGORIAN
BEGIN:VEVENT
UID:d11c8b5e572d2c62a4b31a01aff20e90
DTSTAMP:20260422T140516Z
SUMMARY:Hadassah Walk for Women's Health
DESCRIPTION:Jewish Federation of New Hampshire\nCommunity Calendar\nhttps:/
 /jewishnh.org/community-calendar/hadassah-walk-for-womens-health\n\nJoin u
 s Sunday\, October 23\, 2022!\n\nHadassah Northeast is hosting a Walk for 
 Women's Health\n\nThree locations:\n\n\nDCR Chestnut Hill Reservoir\, Bost
 on\, Mass.\nAndres Institute of Art\, Brookline\, N.H.\nBlackstone Bouleva
 rd Park\, Providence\, R.I.\n\n\n2:00pm Start Time\n\nThe walk is open to 
 everyone - It is not a race\, you can walk at your own pace.  All registr
 ants will be given a Hadassah Crossbody Fanny Pack as a swag gift.  A bot
 tle of water\, an apple and a snack will also be provi...
DTSTART;TZID=America/New_York:20221023T140000
DTEND;TZID=America/New_York:20221023T160000
END:VEVENT
END:VCALENDAR
