BEGIN:VCALENDAR
PRODID:-//eluceo/ical//2.0/EN
VERSION:2.0
CALSCALE:GREGORIAN
BEGIN:VEVENT
UID:5bcb9799fb3a7e030f8f4e89b9766485
DTSTAMP:20260422T181031Z
SUMMARY:"Hakarat Hatov" -  Goodness and Gratitude
DESCRIPTION:Jewish Federation of New Hampshire\nCommunity Calendar\nhttps:/
 /jewishnh.org/community-calendar/hakarat-hatov-goodness-gratitude\n\nPleas
 e see above.  Through this program\, TBI is hoping to attract and engage\,
  along with their own small religious school membership\, unaffiliated chi
 ldren in the area\, especially those who often attend regional PJ Library 
 programs.
DTSTART;TZID=America/New_York:20221120T100000
DTEND;TZID=America/New_York:20221120T120000
END:VEVENT
END:VCALENDAR
