BEGIN:VCALENDAR
PRODID:-//eluceo/ical//2.0/EN
VERSION:2.0
CALSCALE:GREGORIAN
BEGIN:VEVENT
UID:602812f41c0429e30da515abe5933289
DTSTAMP:20260423T112534Z
SUMMARY:Temple Israel Portsmouth Presents Hand in Hand Schools Zoom Present
 ation
DESCRIPTION:Jewish Federation of New Hampshire\nCommunity Calendar\nhttps:/
 /jewishnh.org/community-calendar/hand-in-hand-schools-zoom-presentation-16
 43314167\n\nHand in Hand operates a growing network of bilingual\, integra
 ted\, and multicultural schools and community programs in Israel. Hand in 
 Hand schools serve both Jewish and Arab children\, employ both Jewish and 
 Arab teachers\, and use both Hebrew and Arabic as primary languages of ins
 truction.\n\nLearn about Hand in Hand schools and community programs from 
 our guest speaker\, Lee Gordon\, founder of Hand in Hand and co-founder an
 d CEO of American Friends of Hand in Hand. This talk will be geared to ...
DTSTART;TZID=America/New_York:20220313T103000
DTEND;TZID=America/New_York:20220313T113000
END:VEVENT
END:VCALENDAR
